BEGIN:VCALENDAR
VERSION:2.0
PRODID:-//КДАіС
CALSCALE:GREGORIAN
METHOD:PUBLISH
X-WR-CALNAME:КДАіС
X-ORIGINAL-URL:https://kdais.kiev.ua/event/liturhiya-19-12-25/
X-WR-CALDESC:Київські духовні школи молитовно відзначили пам’ять святителя Миколая
BEGIN:VEVENT
DTSTART:20251219T233000
DTEND:20251219T233000
SUMMARY:Київські духовні школи молитовно відзначили пам’ять святителя Миколая
DESCRIPTION:Піснеспіви Божественної літургії вперше виконував новосформований змішаний хор Київських духовних шкіл під керівництвом регента ієромонаха Іоасафа (Міронова)
LOCATION:
END:VEVENT
END:VCALENDAR
