BEGIN:VCALENDAR
VERSION:2.0
PRODID:-//КДАіС
CALSCALE:GREGORIAN
METHOD:PUBLISH
X-WR-CALNAME:КДАіС
X-ORIGINAL-URL:https://kdais.kiev.ua/event/vitannya-20-12-25/
X-WR-CALDESC:Вітаємо проректора з виховної роботи професора архієпископа Згурівського Амвросія з Днем тезоіменитства!
BEGIN:VEVENT
DTSTART:20251220T233000
DTEND:20251220T233000
SUMMARY:Вітаємо проректора з виховної роботи професора архієпископа Згурівського Амвросія з Днем тезоіменитства!
DESCRIPTION:Наслідуючи подвиг свого Небесного заступника, Ви невтомно піклуєтесь про духовне зростання й збереження ввіреної Вам пастви
LOCATION:
END:VEVENT
END:VCALENDAR
