BEGIN:VCALENDAR
VERSION:2.0
PRODID:-//КДАіС
CALSCALE:GREGORIAN
METHOD:PUBLISH
X-WR-CALNAME:КДАіС
X-ORIGINAL-URL:https://kdais.kiev.ua/event/hor-19-12-25/
X-WR-CALDESC:Відроджено мішаний хор Київських духовних шкіл
BEGIN:VEVENT
DTSTART:20251219T233000
DTEND:20251219T233000
SUMMARY:Відроджено мішаний хор Київських духовних шкіл
DESCRIPTION:Новосформований колектив вже розпочав регулярні співанки та активно бере участь в богослужбовій практиці
LOCATION:
END:VEVENT
END:VCALENDAR
