BEGIN:VCALENDAR
VERSION:2.0
PRODID:-//КДАіС
CALSCALE:GREGORIAN
METHOD:PUBLISH
X-WR-CALNAME:КДАіС
X-ORIGINAL-URL:https://kdais.kiev.ua/event/nedilna-25-12-20/
X-WR-CALDESC:У Недільній школі при КДАіС відбудеться святковий концерт з нагоди дня пам&#8217;яті святого Миколая!
BEGIN:VEVENT
DTSTART:20251220T233000
DTEND:20251220T233000
SUMMARY:У Недільній школі при КДАіС відбудеться святковий концерт з нагоди дня пам&#8217;яті святого Миколая!
DESCRIPTION:Захід відбудеться 21 грудня о 10:30 в Академічному храмі та продовжиться в аудиторії КДА


LOCATION:
END:VEVENT
END:VCALENDAR
