BEGIN:VCALENDAR
VERSION:2.0
PRODID:-//КДАіС
CALSCALE:GREGORIAN
METHOD:PUBLISH
X-WR-CALNAME:КДАіС
X-ORIGINAL-URL:https://kdais.kiev.ua/event/bdinya-20-12-2025/
X-WR-CALDESC:Всенічне бдіння напередодні Неділі двадцять восьмої після П’ятидесятниці
BEGIN:VEVENT
DTSTART:20251220T233000
DTEND:20251220T233000
SUMMARY:Всенічне бдіння напередодні Неділі двадцять восьмої після П’ятидесятниці
DESCRIPTION:Проповідь після шестопсалм’я виголосив студент II курсу Академії — чтець Іван Кречуняк
LOCATION:
END:VEVENT
END:VCALENDAR
