BEGIN:VCALENDAR
VERSION:2.0
PRODID:-//КДАіС
CALSCALE:GREGORIAN
METHOD:PUBLISH
X-WR-CALNAME:КДАіС
X-ORIGINAL-URL:https://kdais.kiev.ua/event/postryh-21-12-25/
X-WR-CALDESC:В Київських духовних школах звершено чернечий постриг
BEGIN:VEVENT
DTSTART:20251221T233000
DTEND:20251221T233000
SUMMARY:В Київських духовних школах звершено чернечий постриг
DESCRIPTION:Архієпископ Сильвестр звершив чернечий постриг над студентами КДА — Давидом Шарамком, Георгієм Момотом та вихованцем  КДС — Миколою Миронцем
LOCATION:
END:VEVENT
END:VCALENDAR
