BEGIN:VCALENDAR
VERSION:2.0
PRODID:-//КДАіС
CALSCALE:GREGORIAN
METHOD:PUBLISH
X-WR-CALNAME:КДАіС
X-ORIGINAL-URL:https://kdais.kiev.ua/event/koncert-21-12-025/
X-WR-CALDESC:У Недільній школі при КДАіС відбувся святковий концерт до дня святителя Миколая
BEGIN:VEVENT
DTSTART:20251221T233000
DTEND:20251221T233000
SUMMARY:У Недільній школі при КДАіС відбувся святковий концерт до дня святителя Миколая
DESCRIPTION:Ректор Академії подякував учасникам заходу за чудовий спів і привітання, подарував маленьким прихожанам солодкі подарунки 
LOCATION:
END:VEVENT
END:VCALENDAR
