BEGIN:VCALENDAR
VERSION:2.0
PRODID:-//КДАіС
CALSCALE:GREGORIAN
METHOD:PUBLISH
X-WR-CALNAME:КДАіС
X-ORIGINAL-URL:https://kdais.kiev.ua/event/liturhiya-21-12-2025/
X-WR-CALDESC:Божественна літургія у неділю двадцять восьму після П’ятидесятниці
BEGIN:VEVENT
DTSTART:20251221T233000
DTEND:20251221T233000
SUMMARY:Божественна літургія у неділю двадцять восьму після П’ятидесятниці
DESCRIPTION:Під час Літургії були піднесені особливі прохання за здоров’я архієпископа Сильвестра, який сьогодні святкує восьму річницю призначення на посаду ректора Київських духовних шкіл
LOCATION:
END:VEVENT
END:VCALENDAR
