BEGIN:VCALENDAR
VERSION:2.0
PRODID:-//КДАіС
CALSCALE:GREGORIAN
METHOD:PUBLISH
X-WR-CALNAME:КДАіС
X-ORIGINAL-URL:https://kdais.kiev.ua/event/sviyaty-kda-03-01-2026/
X-WR-CALDESC:Собор святих КДА: святитель Філарет (Амфітеатров), митрополит Київський і Галицький (+1857)
BEGIN:VEVENT
DTSTART:20260103T233000
DTEND:20260103T233000
SUMMARY:Собор святих КДА: святитель Філарет (Амфітеатров), митрополит Київський і Галицький (+1857)
DESCRIPTION:Митрополит Філарет для удосконалення навчального процесу передав Київській духовній семінарії свою особисту бібліотеку та розпорядився про передачу семінарії бібліотеки Київського Миколаївського монастиря. Водночас митрополит був проректором Київської духовної академії
LOCATION:
END:VEVENT
END:VCALENDAR
