BEGIN:VCALENDAR
VERSION:2.0
PRODID:-//КДАіС
CALSCALE:GREGORIAN
METHOD:PUBLISH
X-WR-CALNAME:КДАіС
X-ORIGINAL-URL:https://kdais.kiev.ua/event/akafist-28-01-2026/
X-WR-CALDESC:Соборне читання Акафіста Собору святих КДА
BEGIN:VEVENT
DTSTART:20260128T233000
DTEND:20260128T230000
SUMMARY:Соборне читання Акафіста Собору святих КДА
DESCRIPTION:Акафістний спів очолив вчений секретар КДА архімандрит Митрофан (Божко) у співслужінні викладачів та студентів у священному сані
LOCATION:
END:VEVENT
END:VCALENDAR
