BEGIN:VCALENDAR
VERSION:2.0
PRODID:-//КДАіС
CALSCALE:GREGORIAN
METHOD:PUBLISH
X-WR-CALNAME:КДАіС
X-ORIGINAL-URL:https://kdais.kiev.ua/event/propovid-ua-31-01-2026/
X-WR-CALDESC:Проповідь архієпископа Білогородського Сильвестра у Неділю про митаря і фарисея
BEGIN:VEVENT
DTSTART:20260131T233000
DTEND:20260131T233000
SUMMARY:Проповідь архієпископа Білогородського Сильвестра у Неділю про митаря і фарисея
DESCRIPTION:Де ж ліки від лицемірства? Церква дає відповідь на це запитання у дні Великого посту словами молитви прп. Єрфема Сиріна: «Господи Царю, даруй мені зріти мої гріхи, і не засуджувати брата мого»!
LOCATION:
END:VEVENT
END:VCALENDAR
