BEGIN:VCALENDAR
VERSION:2.0
PRODID:-//КДАіС
CALSCALE:GREGORIAN
METHOD:PUBLISH
X-WR-CALNAME:КДАіС
X-ORIGINAL-URL:https://kdais.kiev.ua/event/liturhiya-08-02-2026/
X-WR-CALDESC:Божественна літургія в Академії у Неділю про блудного сина
BEGIN:VEVENT
DTSTART:20260208T233000
DTEND:20260208T233000
SUMMARY:Божественна літургія в Академії у Неділю про блудного сина
DESCRIPTION:Проповіді за богослужінням виголосили: після читання Святого Євангелія — викладач архімандрит Рафаїл (Мосунов), а на запричасному вірші студент ІІ курсу Академії — чтець Семен Опанасюк
LOCATION:
END:VEVENT
END:VCALENDAR
