BEGIN:VCALENDAR
VERSION:2.0
PRODID:-//КДАіС
CALSCALE:GREGORIAN
METHOD:PUBLISH
X-WR-CALNAME:КДАіС
X-ORIGINAL-URL:https://kdais.kiev.ua/event/bdinya-11-02-2026/
X-WR-CALDESC:Всенічне бдіння напередодні дня пам’яті вселенських учителів і святителів
BEGIN:VEVENT
DTSTART:20260211T233000
DTEND:20260211T233000
SUMMARY:Всенічне бдіння напередодні дня пам’яті вселенських учителів і святителів
DESCRIPTION:Богослужіння очолив викладач архімандрит Назарій (Омеляненко)
LOCATION:
END:VEVENT
END:VCALENDAR
