BEGIN:VCALENDAR
VERSION:2.0
PRODID:-//КДАіС
CALSCALE:GREGORIAN
METHOD:PUBLISH
X-WR-CALNAME:КДАіС
X-ORIGINAL-URL:https://kdais.kiev.ua/event/10-02-26-kafedra/
X-WR-CALDESC:На засіданні кафедри церковно-практичних дисциплін відбувся передзахист студента аспірантури
BEGIN:VEVENT
DTSTART:20260211T233000
DTEND:20260211T233000
SUMMARY:На засіданні кафедри церковно-практичних дисциплін відбувся передзахист студента аспірантури
DESCRIPTION:Відповідно до порядку денного, відбувся передзахист кандидатської дисертації студента аспірантури — ієромонаха Іоасафа (Міронова)
LOCATION:
END:VEVENT
END:VCALENDAR
