BEGIN:VCALENDAR
VERSION:2.0
PRODID:-//КДАіС
CALSCALE:GREGORIAN
METHOD:PUBLISH
X-WR-CALNAME:КДАіС
X-ORIGINAL-URL:https://kdais.kiev.ua/event/liturhiya-12-02-2026/
X-WR-CALDESC:У день пам&#8217;яті вселенських учителів і святителів в Академії традиційно відслужена Літургія англійською мовою
BEGIN:VEVENT
DTSTART:20260212T233000
DTEND:20260212T233000
SUMMARY:У день пам&#8217;яті вселенських учителів і святителів в Академії традиційно відслужена Літургія англійською мовою
DESCRIPTION:Окрім англійської мови під час богослужіння звучали піснеспіви і молитви на давньогрецькій, французькій, італійській, румунській, українській та слов’янській мові
LOCATION:
END:VEVENT
END:VCALENDAR
