BEGIN:VCALENDAR
VERSION:2.0
PRODID:-//КДАіС
CALSCALE:GREGORIAN
METHOD:PUBLISH
X-WR-CALNAME:КДАіС
X-ORIGINAL-URL:https://kdais.kiev.ua/event/liturhiya-2026-02-15/
X-WR-CALDESC:Свято Стрітення Господнього в Київській духовній академії
BEGIN:VEVENT
DTSTART:20260215T233000
DTEND:20260215T233000
SUMMARY:Свято Стрітення Господнього в Київській духовній академії
DESCRIPTION:Після завершення богослужіння академічна спільнота КДАіС підготувала святкову трапезу перед адміністративним корпусом для прихожан Академічного храму, чернечої братії та студентів
LOCATION:
END:VEVENT
END:VCALENDAR
