BEGIN:VCALENDAR
VERSION:2.0
PRODID:-//КДАіС
CALSCALE:GREGORIAN
METHOD:PUBLISH
X-WR-CALNAME:КДАіС
X-ORIGINAL-URL:https://kdais.kiev.ua/event/liturhiya-rector-15-02-26/
X-WR-CALDESC:В день свята Стрітення Господнього архієпископ Сильвестр взяв участь у Божественній Літургії в Тульчинській єпархії
BEGIN:VEVENT
DTSTART:20260215T233000
DTEND:20260215T233000
SUMMARY:В день свята Стрітення Господнього архієпископ Сильвестр взяв участь у Божественній Літургії в Тульчинській єпархії
DESCRIPTION:Проповідь після читання Євангелія виголосив викладач КДАіС ієромонах Павел (Вітрюк)
LOCATION:
END:VEVENT
END:VCALENDAR
