BEGIN:VCALENDAR
VERSION:2.0
PRODID:-//КДАіС
CALSCALE:GREGORIAN
METHOD:PUBLISH
X-WR-CALNAME:КДАіС
X-ORIGINAL-URL:https://kdais.kiev.ua/event/muzey-16-02-2026/
X-WR-CALDESC:Церковно-археологічному музею передано збірники студентських записів випускника дореволюційної КДА та плат антимінсу 1724 року
BEGIN:VEVENT
DTSTART:20260216T233000
DTEND:20260216T233000
SUMMARY:Церковно-археологічному музею передано збірники студентських записів випускника дореволюційної КДА та плат антимінсу 1724 року
DESCRIPTION:Рукописні збірники містять вірші, написані старшим братом протоієрея Василія Пестрякова – священиком Філіпом Пестряковим (1862–1910), а також твори різної тематики з періоду навчання протоієрея Василія
LOCATION:
END:VEVENT
END:VCALENDAR
