BEGIN:VCALENDAR
VERSION:2.0
PRODID:-//КДАіС
CALSCALE:GREGORIAN
METHOD:PUBLISH
X-WR-CALNAME:КДАіС
X-ORIGINAL-URL:https://kdais.kiev.ua/event/kafedra-16-02-2026/
X-WR-CALDESC:У КДАіС відбулося засідання кафедри богослов’я і біблеїстики
BEGIN:VEVENT
DTSTART:20260216T233000
DTEND:20260216T233000
SUMMARY:У КДАіС відбулося засідання кафедри богослов’я і біблеїстики
DESCRIPTION:Кафедрою було розглянуто повідомлення про теми доповідей аспірантів та студентів магістратури на XV щорічну студентську конференцію «Студентська наука в духовній школі»
LOCATION:
END:VEVENT
END:VCALENDAR
