BEGIN:VCALENDAR
VERSION:2.0
PRODID:-//КДАіС
CALSCALE:GREGORIAN
METHOD:PUBLISH
X-WR-CALNAME:КДАіС
X-ORIGINAL-URL:https://kdais.kiev.ua/event/kafedra-16-02-26/
X-WR-CALDESC:На кафедрі церковної історії заслухані звіти студентів II курсу магістратури
BEGIN:VEVENT
DTSTART:20260216T233000
DTEND:20260216T233000
SUMMARY:На кафедрі церковної історії заслухані звіти студентів II курсу магістратури
DESCRIPTION:Участь у засіданні взяв ректор Київської духовної академії і семінарії архієпископ Білогородський Сильвестр
LOCATION:
END:VEVENT
END:VCALENDAR
