BEGIN:VCALENDAR
VERSION:2.0
PRODID:-//КДАіС
CALSCALE:GREGORIAN
METHOD:PUBLISH
X-WR-CALNAME:КДАіС
X-ORIGINAL-URL:https://kdais.kiev.ua/event/vchena-rada-18-02-2026/
X-WR-CALDESC:Відбулось засідання Вченої ради Київської духовної академії
BEGIN:VEVENT
DTSTART:20260218T233000
DTEND:20260218T233000
SUMMARY:Відбулось засідання Вченої ради Київської духовної академії
DESCRIPTION:Відповідно до порядку денного, члени Вченої ради заслухали рецензії на навчальний посібник з англійської мови, підготовлений Лагодою Олександром Сергійовичем
LOCATION:
END:VEVENT
END:VCALENDAR
