BEGIN:VCALENDAR
VERSION:2.0
PRODID:-//КДАіС
CALSCALE:GREGORIAN
METHOD:PUBLISH
X-WR-CALNAME:КДАіС
X-ORIGINAL-URL:https://kdais.kiev.ua/event/akafist-2026-18-02/
X-WR-CALDESC:Митрополит Ніжинський і Прилуцький Климент очолив соборний акафіст перед шанованою іконою Божої Матері «Києво-Братська»
BEGIN:VEVENT
DTSTART:20260218T233000
DTEND:20260218T233000
SUMMARY:Митрополит Ніжинський і Прилуцький Климент очолив соборний акафіст перед шанованою іконою Божої Матері «Києво-Братська»
DESCRIPTION:Митрополиту Клименту співслужили ректор КДАіС архієпископ Білогородський Сильвестр та проректор з навчально-методичної роботи єпископ Батуринський Пантелеімон
LOCATION:
END:VEVENT
END:VCALENDAR
