BEGIN:VCALENDAR
VERSION:2.0
PRODID:-//КДАіС
CALSCALE:GREGORIAN
METHOD:PUBLISH
X-WR-CALNAME:КДАіС
X-ORIGINAL-URL:https://kdais.kiev.ua/event/pist-22-02-2026/
X-WR-CALDESC:Слово архієпископа Білогородського Сильвестра перед початком Великого посту
BEGIN:VEVENT
DTSTART:20260222T233000
DTEND:20260222T233000
SUMMARY:Слово архієпископа Білогородського Сильвестра перед початком Великого посту
DESCRIPTION:Піст — це засіб. Засіб, що дозволяє людині побачити свої слабкості та зрозуміти, що тілесне начало часто опановує людину, повністю контролює її волю, бажання, емоції
LOCATION:
END:VEVENT
END:VCALENDAR
