BEGIN:VCALENDAR
VERSION:2.0
PRODID:-//КДАіС
CALSCALE:GREGORIAN
METHOD:PUBLISH
X-WR-CALNAME:КДАіС
X-ORIGINAL-URL:https://kdais.kiev.ua/event/post-22-02-2026/
X-WR-CALDESC:Слово архиепископа Белогородского Сильвестра перед началом Великого поста
BEGIN:VEVENT
DTSTART:20260222T233000
DTEND:20260222T233000
SUMMARY:Слово архиепископа Белогородского Сильвестра перед началом Великого поста
DESCRIPTION:Основная цель поста не в том, чтобы не употреблять какие-то виды пищи или ограничивать себя в ее количестве, а в том, чтобы учиться пользоваться телесной составляющей человеческой природы
LOCATION:
END:VEVENT
END:VCALENDAR
