BEGIN:VCALENDAR
VERSION:2.0
PRODID:-//КДАіС
CALSCALE:GREGORIAN
METHOD:PUBLISH
X-WR-CALNAME:КДАіС
X-ORIGINAL-URL:https://kdais.kiev.ua/event/knyga-23-02-2026/
X-WR-CALDESC:Вийшов з друку нотний збірник Великопісних піснеспівів Академічного хору КДАіС
BEGIN:VEVENT
DTSTART:20260223T233000
DTEND:20260223T233000
SUMMARY:Вийшов з друку нотний збірник Великопісних піснеспівів Академічного хору КДАіС
DESCRIPTION:Збірник охоплює основні служби Святої Чотиридесятниці від першого дня Великого посту до Суботи Лазаревої
LOCATION:
END:VEVENT
END:VCALENDAR
