BEGIN:VCALENDAR
VERSION:2.0
PRODID:-//КДАіС
CALSCALE:GREGORIAN
METHOD:PUBLISH
X-WR-CALNAME:КДАіС
X-ORIGINAL-URL:https://kdais.kiev.ua/event/lpd-04-03-2026-rector/
X-WR-CALDESC:Архієпископ Сильвестр звершив Літургію Передосвячених Дарів з духовенством Першого Дарницького благочиння м. Києва
BEGIN:VEVENT
DTSTART:20260304T233000
DTEND:20260304T233000
SUMMARY:Архієпископ Сильвестр звершив Літургію Передосвячених Дарів з духовенством Першого Дарницького благочиння м. Києва
DESCRIPTION:Після відпусту владика ректор звернувся до присутніх з архіпастирським словом
LOCATION:
END:VEVENT
END:VCALENDAR
