BEGIN:VCALENDAR
VERSION:2.0
PRODID:-//КДАіС
CALSCALE:GREGORIAN
METHOD:PUBLISH
X-WR-CALNAME:КДАіС
X-ORIGINAL-URL:https://kdais.kiev.ua/event/book-12-04-26/
X-WR-CALDESC:Вийшла з друку книга професора Олександра Боголєпова «На шляху до єдності Православної Церкви в Америці»
BEGIN:VEVENT
DTSTART:20260411T233000
DTEND:20260411T233000
SUMMARY:Вийшла з друку книга професора Олександра Боголєпова «На шляху до єдності Православної Церкви в Америці»
DESCRIPTION:Український переклад вказаних текстів здійснив проректор з науково-богословської роботи Київської духовної академії професор Володимир Бурега
LOCATION:
END:VEVENT
END:VCALENDAR
