BEGIN:VCALENDAR
VERSION:2.0
PRODID:-//КДАіС
CALSCALE:GREGORIAN
METHOD:PUBLISH
X-WR-CALNAME:КДАіС
X-ORIGINAL-URL:https://kdais.kiev.ua/event/ekskursiya-16-04-2026/
X-WR-CALDESC:Київські духовні школи відвідали студенти Волинської духовної семінарії
BEGIN:VEVENT
DTSTART:20260416T233000
DTEND:20260416T233000
SUMMARY:Київські духовні школи відвідали студенти Волинської духовної семінарії
DESCRIPTION:Екскурсію для гостей провів завідувач заочним відділенням архімандрит Афанасій (Стрельцов)
LOCATION:
END:VEVENT
END:VCALENDAR
