BEGIN:VCALENDAR
VERSION:2.0
PRODID:-//КДАіС
CALSCALE:GREGORIAN
METHOD:PUBLISH
X-WR-CALNAME:КДАіС
X-ORIGINAL-URL:https://kdais.kiev.ua/event/17-04-26-rector-liturhiya/
X-WR-CALDESC:Архієпископ Сильвестр взяв участь у богослужінні в Свято-Успенському чоловічому монастирі м. Одеси
BEGIN:VEVENT
DTSTART:20260417T233000
DTEND:20260417T233000
SUMMARY:Архієпископ Сильвестр взяв участь у богослужінні в Свято-Успенському чоловічому монастирі м. Одеси
DESCRIPTION:Перед початком богослужіння до стін обителі була принесена головна святиня Одеси — чудотворна Касперівська ікона Божої Матері
LOCATION:
END:VEVENT
END:VCALENDAR
