BEGIN:VCALENDAR
VERSION:2.0
PRODID:-//КДАіС
CALSCALE:GREGORIAN
METHOD:PUBLISH
X-WR-CALNAME:КДАіС
X-ORIGINAL-URL:https://kdais.kiev.ua/event/liturhiya-19-04-2026/
X-WR-CALDESC:Божественна літургія у Неділю другу після Пасхи, апостола Фоми
BEGIN:VEVENT
DTSTART:20260419T233000
DTEND:20260419T233000
SUMMARY:Божественна літургія у Неділю другу після Пасхи, апостола Фоми
DESCRIPTION:Після цілування хреста віряни отримали частинки освяченого пасхального Артосу
LOCATION:
END:VEVENT
END:VCALENDAR
