BEGIN:VCALENDAR
VERSION:2.0
PRODID:-//КДАіС
CALSCALE:GREGORIAN
METHOD:PUBLISH
X-WR-CALNAME:КДАіС
X-ORIGINAL-URL:https://kdais.kiev.ua/event/litiya-19-04-2026/
X-WR-CALDESC:В Академії відслужено заупокійну літію за загиблими внаслідок теракту у Києві
BEGIN:VEVENT
DTSTART:20260419T233000
DTEND:20260419T233000
SUMMARY:В Академії відслужено заупокійну літію за загиблими внаслідок теракту у Києві
DESCRIPTION:18 квітня 2026 року, близько 17:00 у Голосіївському районі м. Києва був здійснений терористичний акт, внаслідок чого шестеро людей були вбиті та щонайменше 14 поранені
LOCATION:
END:VEVENT
END:VCALENDAR
