BEGIN:VCALENDAR
VERSION:2.0
PRODID:-//КДАіС
CALSCALE:GREGORIAN
METHOD:PUBLISH
X-WR-CALNAME:КДАіС
X-ORIGINAL-URL:https://kdais.kiev.ua/event/liturhiya-rector-19-04-26/
X-WR-CALDESC:Служіння ректора Академії у Фомину неділю у Свято-Успенському соборі Одеси
BEGIN:VEVENT
DTSTART:20260419T233000
DTEND:20260419T233000
SUMMARY:Служіння ректора Академії у Фомину неділю у Свято-Успенському соборі Одеси
DESCRIPTION:Його Високопреосвященству співслужив настоятель собору протоієрей Іоанн Желіховський
LOCATION:
END:VEVENT
END:VCALENDAR
