BEGIN:VCALENDAR
VERSION:2.0
PRODID:-//КДАіС
CALSCALE:GREGORIAN
METHOD:PUBLISH
X-WR-CALNAME:КДАіС
X-ORIGINAL-URL:https://kdais.kiev.ua/event/20-04-26-vitannya/
X-WR-CALDESC:Вітаємо доцента архімандрита Назарія (Омеляненка) з Днем народження!
BEGIN:VEVENT
DTSTART:20260420T233000
DTEND:20260420T233000
SUMMARY:Вітаємо доцента архімандрита Назарія (Омеляненка) з Днем народження!
DESCRIPTION:У ці світлі Пасхальні дні прийміть щирі вітання від корпорації Київських духовних шкіл з нагоди Вашого Дня народження!
LOCATION:
END:VEVENT
END:VCALENDAR
