BEGIN:VCALENDAR
VERSION:2.0
PRODID:-//КДАіС
CALSCALE:GREGORIAN
METHOD:PUBLISH
X-WR-CALNAME:КДАіС
X-ORIGINAL-URL:https://kdais.kiev.ua/event/20-04-26-rector-liturhiya/
X-WR-CALDESC:Ректор КДАіС взяв участь у Божественній літургії з нагоди дня народження архієпископа Арцизького Віктора
BEGIN:VEVENT
DTSTART:20260420T233000
DTEND:20260420T233000
SUMMARY:Ректор КДАіС взяв участь у Божественній літургії з нагоди дня народження архієпископа Арцизького Віктора
DESCRIPTION:На завершення Літургії архієреї привітали Високопреосвященнішого архієпископа Віктора з днем народження
LOCATION:
END:VEVENT
END:VCALENDAR
