BEGIN:VCALENDAR
VERSION:2.0
PRODID:-//КДАіС
CALSCALE:GREGORIAN
METHOD:PUBLISH
X-WR-CALNAME:КДАіС
X-ORIGINAL-URL:https://kdais.kiev.ua/event/21-04-2026/
X-WR-CALDESC:Традиційне впорядкування могил спочилих архієреїв та професорів КДА на Лук&#8217;янівському та Байковому кладовищах м. Києва
BEGIN:VEVENT
DTSTART:20260421T233000
DTEND:20260421T233000
SUMMARY:Традиційне впорядкування могил спочилих архієреїв та професорів КДА на Лук&#8217;янівському та Байковому кладовищах м. Києва
DESCRIPTION:Після впорядкування могил спочилих архієреїв, ректорів та викладачів КДА, на місці їхнього спочинку було звершено заупокійну літію
LOCATION:
END:VEVENT
END:VCALENDAR
