BEGIN:VCALENDAR
VERSION:2.0
PRODID:-//КДАіС
CALSCALE:GREGORIAN
METHOD:PUBLISH
X-WR-CALNAME:КДАіС
X-ORIGINAL-URL:https://kdais.kiev.ua/event/akafist-22-04-2026/
X-WR-CALDESC:Акафістний спів перед шанованою іконою Божої Матері «Києво-Братська»
BEGIN:VEVENT
DTSTART:20260422T233000
DTEND:20260422T233000
SUMMARY:Акафістний спів перед шанованою іконою Божої Матері «Києво-Братська»
DESCRIPTION:Акафістний спів очолив викладач КДС ієромонах Парфеній (Маринич)
LOCATION:
END:VEVENT
END:VCALENDAR
